View In:
ArcGIS JavaScript
ArcGIS Online map viewer
Google Earth
ArcMap
ArcGIS Explorer
View Footprint In:
ArcGIS Online map viewer
Service Description: 概述:中国行政区划标注专题图//投影:WGS 1984 Web-Mercator//切片格式:PNG//服务类型:基础地图服务//数据提供商:易图通科技(北京)有限公司//数据获取时:2020年春季//地图最后更新时间:2020年12月//版权所有:北京捷泰天域信息技术有限公司
Map Name: Layers
Legend
All Layers and Tables
Layers:
Description:
Copyright Text:
Spatial Reference:
102100
(3857)
Single Fused Map Cache: true
Tile Info:
- Height: 256
- Width: 256
- DPI: 96
-
Levels of Detail: 20
-
Level ID: 0
[ Start Tile, End Tile ]
- Resolution: 156543.03392800014
- Scale: 5.91657527591555E8
-
Level ID: 1
[ Start Tile, End Tile ]
- Resolution: 78271.51696399994
- Scale: 2.95828763795777E8
-
Level ID: 2
[ Start Tile, End Tile ]
- Resolution: 39135.75848200009
- Scale: 1.47914381897889E8
-
Level ID: 3
[ Start Tile, End Tile ]
- Resolution: 19567.87924099992
- Scale: 7.3957190948944E7
-
Level ID: 4
[ Start Tile, End Tile ]
- Resolution: 9783.93962049996
- Scale: 3.6978595474472E7
-
Level ID: 5
[ Start Tile, End Tile ]
- Resolution: 4891.96981024998
- Scale: 1.8489297737236E7
- Format: PNG
- Compression Quality: 0.0
- Origin: X: -2.0037508342787E7
Y: 2.0037508342787E7
- Spatial Reference: 102100
(3857)
Initial Extent:
XMin: 3420999.722291533
YMin: 2310485.101376256
XMax: 1.9799314647008464E7
YMax: 8171064.934055731
Spatial Reference: 102100
Full Extent:
XMin: -2.0037507067161843E7
YMin: -2.00612644963E7
XMax: 2.0037507067161843E7
YMax: 2.04020078424E7
Spatial Reference: 102100
Units: esriMeters
Supported Image Format Types: PNG32,PNG24,PNG,JPG,DIB,TIFF,EMF,PS,PDF,GIF,SVG,SVGZ,BMP
Document Info:
Title:
Author:
Comments: 概述:中国行政区划标注专题图//投影:WGS 1984 Web-Mercator//切片格式:PNG//服务类型:基础地图服务//数据提供商:易图通科技(北京)有限公司//数据获取时间:2018年春季//地图最后更新时间:2018年9月//版权所有:北京捷泰天域信息技术有限公司
Subject:
Category:
Keywords:
AntialiasingMode: Best
TextAntialiasingMode: Force
Supports Dynamic Layers: false
MaxRecordCount: 1000
MaxImageHeight: 4096
MaxImageWidth: 4096
Supported Query Formats: JSON, AMF
Min Scale: 7.3957190948944E7
Max Scale: 577790.554289
Child Resources:
Info
Supported Operations:
Export Map
Identify
Find
Return Updates